BEGIN:VCALENDAR
VERSION:2.0
PRODID:-//North Carolina Community Health Center Association - ECPv6.15.20//NONSGML v1.0//EN
CALSCALE:GREGORIAN
METHOD:PUBLISH
X-WR-CALNAME:North Carolina Community Health Center Association
X-ORIGINAL-URL:https://www.ncchca.org
X-WR-CALDESC:Events for North Carolina Community Health Center Association
REFRESH-INTERVAL;VALUE=DURATION:PT1H
X-Robots-Tag:noindex
X-PUBLISHED-TTL:PT1H
BEGIN:VTIMEZONE
TZID:America/New_York
BEGIN:DAYLIGHT
TZOFFSETFROM:-0500
TZOFFSETTO:-0400
TZNAME:EDT
DTSTART:20240310T070000
END:DAYLIGHT
BEGIN:STANDARD
TZOFFSETFROM:-0400
TZOFFSETTO:-0500
TZNAME:EST
DTSTART:20241103T060000
END:STANDARD
BEGIN:DAYLIGHT
TZOFFSETFROM:-0500
TZOFFSETTO:-0400
TZNAME:EDT
DTSTART:20250309T070000
END:DAYLIGHT
BEGIN:STANDARD
TZOFFSETFROM:-0400
TZOFFSETTO:-0500
TZNAME:EST
DTSTART:20251102T060000
END:STANDARD
BEGIN:DAYLIGHT
TZOFFSETFROM:-0500
TZOFFSETTO:-0400
TZNAME:EDT
DTSTART:20260308T070000
END:DAYLIGHT
BEGIN:STANDARD
TZOFFSETFROM:-0400
TZOFFSETTO:-0500
TZNAME:EST
DTSTART:20261101T060000
END:STANDARD
END:VTIMEZONE
BEGIN:VEVENT
DTSTART;TZID=America/New_York:20251105T100000
DTEND;TZID=America/New_York:20251105T113000
DTSTAMP:20260424T111337
CREATED:20251031T154234Z
LAST-MODIFIED:20251031T155541Z
UID:11920-1762336800-1762342200@www.ncchca.org
SUMMARY:NCCHCA Human Resources Workgroup Meeting
DESCRIPTION:The NCCHCA Human Resources Workgroup is holding a virtual meeting on Wednesday\, November 5\, 2025 from 10:00 to 11:30 am. \nParticipation in this event only open to those affiliated with North Carolina community health centers. \nTo register or request additional information\, please contact Josie Lane-Kuzniar at lanej@ncchca.org. \n 
URL:https://www.ncchca.org/event/ncchca-human-resources-workgroup/
END:VEVENT
BEGIN:VEVENT
DTSTART;TZID=America/New_York:20251107T110000
DTEND;TZID=America/New_York:20251107T140000
DTSTAMP:20260424T111337
CREATED:20251031T163255Z
LAST-MODIFIED:20251031T163255Z
UID:11922-1762513200-1762524000@www.ncchca.org
SUMMARY:NCCHCA Dental Directors Workgroup Meeting
DESCRIPTION:The NCCHCA Dental Directors Workgroup is holding an in person meeting on Friday\, November 7\, 2025 from 11:00am to  2:00 pm. The meeting location will be the Triad Adult and Pediatric Medicine Dental Clinic. The address is 231 Plaza Lane\, High Point\, NC  27263. \nThis workgroup consists of CHC Dental Directors and other stakeholders. It addresses all issues of importance to dental directors including finance\, operations\, and clinical performance. \nParticipation in this event only open to those affiliated with North Carolina community health centers. \nTo register or request additional information\, please contact Alice Pollard at pollarda@ncchca.org.
URL:https://www.ncchca.org/event/ncchca-dental-directors-workgroup-meeting/
LOCATION:Triad Adult and Pediatric Medicine Dental Clinic\, 231 Plaza Lane\, High Point\, 27263\, United States
END:VEVENT
END:VCALENDAR