BEGIN:VCALENDAR
VERSION:2.0
PRODID:-//North Carolina Community Health Center Association - ECPv6.15.20//NONSGML v1.0//EN
CALSCALE:GREGORIAN
METHOD:PUBLISH
X-WR-CALNAME:North Carolina Community Health Center Association
X-ORIGINAL-URL:https://www.ncchca.org
X-WR-CALDESC:Events for North Carolina Community Health Center Association
REFRESH-INTERVAL;VALUE=DURATION:PT1H
X-Robots-Tag:noindex
X-PUBLISHED-TTL:PT1H
BEGIN:VTIMEZONE
TZID:America/New_York
BEGIN:DAYLIGHT
TZOFFSETFROM:-0500
TZOFFSETTO:-0400
TZNAME:EDT
DTSTART:20250309T070000
END:DAYLIGHT
BEGIN:STANDARD
TZOFFSETFROM:-0400
TZOFFSETTO:-0500
TZNAME:EST
DTSTART:20251102T060000
END:STANDARD
BEGIN:DAYLIGHT
TZOFFSETFROM:-0500
TZOFFSETTO:-0400
TZNAME:EDT
DTSTART:20260308T070000
END:DAYLIGHT
BEGIN:STANDARD
TZOFFSETFROM:-0400
TZOFFSETTO:-0500
TZNAME:EST
DTSTART:20261101T060000
END:STANDARD
BEGIN:DAYLIGHT
TZOFFSETFROM:-0500
TZOFFSETTO:-0400
TZNAME:EDT
DTSTART:20270314T070000
END:DAYLIGHT
BEGIN:STANDARD
TZOFFSETFROM:-0400
TZOFFSETTO:-0500
TZNAME:EST
DTSTART:20271107T060000
END:STANDARD
END:VTIMEZONE
BEGIN:VEVENT
DTSTART;TZID=America/New_York:20260106T100000
DTEND;TZID=America/New_York:20260106T110000
DTSTAMP:20260424T130339
CREATED:20260108T163041Z
LAST-MODIFIED:20260108T163041Z
UID:12029-1767693600-1767697200@www.ncchca.org
SUMMARY:NCCHCA QUICHE Workgroup Meeting
DESCRIPTION:The NCCHCA QUICHE Workgroup will meet virtually on Tuesday\, January 6\, 2026 from 10:00 to 11:00 am. \nThe QUICHE workgroup is composed of professionals responsible for advancing clinical and operational quality within their health centers. Topics for this group includes clinical quality measures (UDS and HEDIS)\, foundational improvement concepts\, and peer sharing of successful approaches to improvement work.  \nParticipation in this event is only open to those affiliated with North Carolina community health centers. \nTo register or request additional information\, please contact Dr. Arianna Keil at keila@ncchca.org.
URL:https://www.ncchca.org/event/ncchca-quiche-workgroup-meeting/
END:VEVENT
BEGIN:VEVENT
DTSTART;TZID=America/New_York:20260108T080000
DTEND;TZID=America/New_York:20260108T170000
DTSTAMP:20260424T130339
CREATED:20260108T170645Z
LAST-MODIFIED:20260108T170645Z
UID:12030-1767859200-1767891600@www.ncchca.org
SUMMARY:NCCHCA Task Force Meeting
DESCRIPTION:The next NCCHCA Task Force Meeting will be held virtually on Friday\, January 9\, 2026 from 10:00 to 11:30 am. \nThese virtual Task Force Meetings are hosted regularly by NCCHCA to share important information\, training\, and resources with CHC leadership.  \nParticipation in this event is only open to those affiliated with North Carolina community health centers. \nTo register or request additional information\, please contact Lauren Ray at rayl@ncchca.org.
URL:https://www.ncchca.org/event/ncchca-task-force-meeting/
END:VEVENT
BEGIN:VEVENT
DTSTART;TZID=America/New_York:20260109T130000
DTEND;TZID=America/New_York:20260109T140000
DTSTAMP:20260424T130339
CREATED:20260107T215124Z
LAST-MODIFIED:20260109T151557Z
UID:12024-1767963600-1767967200@www.ncchca.org
SUMMARY:HCCN UNC Epic Billing Workgroup Meeting
DESCRIPTION:The HCCN UNC Epic Billing Workgroup will meet virtually on Friday\, January 9\, 2026 from 1:00 to 2:00 pm. \nParticipation in this event is limited to the 36 participating health centers in the Health Center Controlled Network.  \nTo register or request additional information\, please contact Sanga Krupakar at krupakars or Lauren Ray at rayl@ncchca.org.
URL:https://www.ncchca.org/event/hccn-unc-epic-billing-workgroup/
END:VEVENT
END:VCALENDAR